BEGIN:VCALENDAR
VERSION:2.0
PRODID:-//ChamberMaster//Event Calendar 2.0//EN
METHOD:PUBLISH
X-PUBLISHED-TTL:P3D
REFRESH-INTERVAL:P3D
CALSCALE:GREGORIAN
BEGIN:VEVENT
DTSTART:20010725T163000Z
DTEND:20010725T180000Z
X-MICROSOFT-CDO-ALLDAYEVENT:FALSE
SUMMARY:Monthly Luncheon-July 01
DESCRIPTION:
X-ALT-DESC;FMTTYPE=text/html:
LOCATION:Dakota's Restaurant
UID:e.1377.32
SEQUENCE:3
DTSTAMP:20260424T072651Z
URL:https://business.sttammanychamber.org/events/details/monthly-luncheon-july-01-07-25-2001-32
END:VEVENT

END:VCALENDAR
