BEGIN:VCALENDAR
VERSION:2.0
PRODID:-//ChamberMaster//Event Calendar 2.0//EN
METHOD:PUBLISH
X-PUBLISHED-TTL:P3D
REFRESH-INTERVAL:P3D
CALSCALE:GREGORIAN
BEGIN:VEVENT
DTSTART:20020731T163000Z
DTEND:20020731T180000Z
X-MICROSOFT-CDO-ALLDAYEVENT:FALSE
SUMMARY:Monthly Luncheon-July 02
DESCRIPTION:
X-ALT-DESC;FMTTYPE=text/html:
LOCATION:Dakota's Restaurant
UID:e.1377.67
SEQUENCE:3
DTSTAMP:20260423T154228Z
URL:https://business.sttammanychamber.org/events/details/monthly-luncheon-july-02-07-31-2002-67
END:VEVENT

END:VCALENDAR
