BEGIN:VCALENDAR
VERSION:2.0
PRODID:-//ChamberMaster//Event Calendar 2.0//EN
METHOD:PUBLISH
X-PUBLISHED-TTL:P3D
REFRESH-INTERVAL:P3D
CALSCALE:GREGORIAN
BEGIN:VEVENT
DTSTART:20030730T163000Z
DTEND:20030730T180000Z
X-MICROSOFT-CDO-ALLDAYEVENT:FALSE
SUMMARY:Monthly Luncheon-July 03
DESCRIPTION:
X-ALT-DESC;FMTTYPE=text/html:
LOCATION:Tchefuncta Country Club
UID:e.1377.122
SEQUENCE:3
DTSTAMP:20260422T221654Z
URL:https://business.sttammanychamber.org/events/details/monthly-luncheon-july-03-07-30-2003-122
END:VEVENT

END:VCALENDAR
