BEGIN:VCALENDAR
VERSION:2.0
PRODID:-//ChamberMaster//Event Calendar 2.0//EN
METHOD:PUBLISH
X-PUBLISHED-TTL:P3D
REFRESH-INTERVAL:P3D
CALSCALE:GREGORIAN
BEGIN:VEVENT
DTSTART:20010627T163000Z
DTEND:20010627T180000Z
X-MICROSOFT-CDO-ALLDAYEVENT:FALSE
SUMMARY:Monthly Luncheon-June 01
DESCRIPTION:
X-ALT-DESC;FMTTYPE=text/html:
LOCATION:Covington Country Club
UID:e.1377.19
SEQUENCE:3
DTSTAMP:20260424T084939Z
URL:https://business.sttammanychamber.org/events/details/monthly-luncheon-june-01-06-27-2001-19
END:VEVENT

END:VCALENDAR
