BEGIN:VCALENDAR
VERSION:2.0
PRODID:-//ChamberMaster//Event Calendar 2.0//EN
METHOD:PUBLISH
X-PUBLISHED-TTL:P3D
REFRESH-INTERVAL:P3D
CALSCALE:GREGORIAN
BEGIN:VEVENT
DTSTART:20020626T163000Z
DTEND:20020626T180000Z
X-MICROSOFT-CDO-ALLDAYEVENT:FALSE
SUMMARY:Monthly Luncheon-June 02
DESCRIPTION:
X-ALT-DESC;FMTTYPE=text/html:
LOCATION:Benedict's Plantation
UID:e.1377.56
SEQUENCE:3
DTSTAMP:20260423T164912Z
URL:https://business.sttammanychamber.org/events/details/monthly-luncheon-june-02-06-26-2002-56
END:VEVENT

END:VCALENDAR
