BEGIN:VCALENDAR
VERSION:2.0
PRODID:-//ChamberMaster//Event Calendar 2.0//EN
METHOD:PUBLISH
X-PUBLISHED-TTL:P3D
REFRESH-INTERVAL:P3D
CALSCALE:GREGORIAN
BEGIN:VEVENT
DTSTART:20010328T173000Z
DTEND:20010328T190000Z
X-MICROSOFT-CDO-ALLDAYEVENT:FALSE
SUMMARY:Monthly Luncheon-March 01
DESCRIPTION:
X-ALT-DESC;FMTTYPE=text/html:
LOCATION:Dakota Restaurant
UID:e.1377.6
SEQUENCE:3
DTSTAMP:20260424T122147Z
URL:https://business.sttammanychamber.org/events/details/monthly-luncheon-march-01-03-28-2001-6
END:VEVENT

END:VCALENDAR
