BEGIN:VCALENDAR
VERSION:2.0
PRODID:-//ChamberMaster//Event Calendar 2.0//EN
METHOD:PUBLISH
X-PUBLISHED-TTL:P3D
REFRESH-INTERVAL:P3D
CALSCALE:GREGORIAN
BEGIN:VEVENT
DTSTART:20040520T043000Z
DTEND:20040519T180000Z
X-MICROSOFT-CDO-ALLDAYEVENT:FALSE
SUMMARY:Monthly Luncheon-May 04
DESCRIPTION:
X-ALT-DESC;FMTTYPE=text/html:
LOCATION:
UID:e.1377.152
SEQUENCE:3
DTSTAMP:20260422T091652Z
URL:https://business.sttammanychamber.org/events/details/monthly-luncheon-may-04-05-19-2004-152
END:VEVENT

END:VCALENDAR
