BEGIN:VCALENDAR
VERSION:2.0
PRODID:-//ChamberMaster//Event Calendar 2.0//EN
METHOD:PUBLISH
X-PUBLISHED-TTL:P3D
REFRESH-INTERVAL:P3D
CALSCALE:GREGORIAN
BEGIN:VEVENT
DTSTART:20031119T173000Z
DTEND:20031119T190000Z
X-MICROSOFT-CDO-ALLDAYEVENT:FALSE
SUMMARY:Monthly Luncheon-November 03
DESCRIPTION:
X-ALT-DESC;FMTTYPE=text/html:
LOCATION:Benedict's
UID:e.1377.133
SEQUENCE:3
DTSTAMP:20260422T163445Z
URL:https://business.sttammanychamber.org/events/details/monthly-luncheon-november-03-11-19-2003-133
END:VEVENT

END:VCALENDAR
