BEGIN:VCALENDAR
VERSION:2.0
PRODID:-//ChamberMaster//Event Calendar 2.0//EN
METHOD:PUBLISH
X-PUBLISHED-TTL:P3D
REFRESH-INTERVAL:P3D
CALSCALE:GREGORIAN
BEGIN:VEVENT
DTSTART:20041117T173000Z
DTEND:20041117T190000Z
X-MICROSOFT-CDO-ALLDAYEVENT:FALSE
SUMMARY:Monthly Luncheon-November 04
DESCRIPTION:
X-ALT-DESC;FMTTYPE=text/html:
LOCATION:
UID:e.1377.159
SEQUENCE:3
DTSTAMP:20260421T231805Z
URL:https://business.sttammanychamber.org/events/details/monthly-luncheon-november-04-11-17-2004-159
END:VEVENT

END:VCALENDAR
