BEGIN:VCALENDAR
VERSION:2.0
PRODID:-//ChamberMaster//Event Calendar 2.0//EN
METHOD:PUBLISH
X-PUBLISHED-TTL:P3D
REFRESH-INTERVAL:P3D
CALSCALE:GREGORIAN
BEGIN:VEVENT
DTSTART:20020925T163000Z
DTEND:20020925T180000Z
X-MICROSOFT-CDO-ALLDAYEVENT:FALSE
SUMMARY:Monthly Luncheon-September 02
DESCRIPTION:
X-ALT-DESC;FMTTYPE=text/html:
LOCATION:
UID:e.1377.69
SEQUENCE:3
DTSTAMP:20260423T124444Z
URL:https://business.sttammanychamber.org/events/details/monthly-luncheon-september-02-09-25-2002-69
END:VEVENT

END:VCALENDAR
