BEGIN:VCALENDAR
VERSION:2.0
PRODID:-//ChamberMaster//Event Calendar 2.0//EN
METHOD:PUBLISH
X-PUBLISHED-TTL:P3D
REFRESH-INTERVAL:P3D
CALSCALE:GREGORIAN
BEGIN:VEVENT
DTSTART:20260504T230000Z
DTEND:20260505T013000Z
X-MICROSOFT-CDO-ALLDAYEVENT:FALSE
SUMMARY:National Civics Bee Regional Competition
DESCRIPTION:Join Us to Celebrate the Next Generation of Civic Leaders!\n\n\n\nWe are excited to host the 2026 National Civics Bee  Regional Competition in St. Tammany! Students in grades 6 to 8 from southeast Louisiana submitted essays sharing their ideas for improving their communities\, and the top finalists have been invited to compete live.\n\n\n\nJoin us to cheer on these talented students as they test their civics knowledge and compete for the chance to advance to the state and national levels. During this exciting evening\, finalists will participate in a fast-paced quiz competition and live judging round\, demonstrating their knowledge of civics.\n\n\n\nChamber members\, families\, teachers\, classmates and community members are all welcome come celebrate student leadership\, civic learning and community pride!\n\n\n\nRegional First Place Prize: $500\n\nRegional Second Place Prize: $250\n\nRegional Third Place Prize: $125\n\n\n\nRegional Finalists will move on to the Louisiana State Competition.
X-ALT-DESC;FMTTYPE=text/html:<br />\n<br />\n<span style="font-size:14px\;"><span style="font-family:arial\;"><strong>Join Us to Celebrate the Next Generation of Civic Leaders!</strong><br />\n<br />\nWe are excited to host the 2026 National Civics Bee&reg\; Regional Competition in St. Tammany! Students in grades 6 to 8 from southeast Louisiana submitted essays sharing their ideas for improving their communities\, and the top finalists have been invited to compete live.<br />\n<br />\nJoin us to cheer on these talented students as they test their civics knowledge and compete for the chance to advance to the state and national levels. During this exciting evening\, finalists will participate in a fast-paced quiz competition and live judging round\, demonstrating their knowledge of civics.<br />\n<br />\nChamber members\, families\, teachers\, classmates and community members are all welcome&mdash\;come celebrate student leadership\, civic learning and community pride!</span></span><br />\n<br />\n<span style="font-size:14px\;"><span style="font-family: arial\;"><span style="color: rgb(51\, 51\, 51)\;">Regional First Place Prize: $500<br />\nRegional Second Place Prize: $250<br />\nRegional Third Place Prize: $125<br />\n<br />\nRegional Finalists will move on to the Louisiana State Competition.</span></span></span><br />\n<br />\n<br />\n<br />\n&nbsp\;
LOCATION:The River Mill Center
UID:e.1377.10861
SEQUENCE:3
DTSTAMP:20260425T142810Z
URL:https://business.sttammanychamber.org/events/details/national-civics-bee-10861
END:VEVENT

END:VCALENDAR
