BEGIN:VCALENDAR
VERSION:2.0
PRODID:-//ChamberMaster//Event Calendar 2.0//EN
METHOD:PUBLISH
X-PUBLISHED-TTL:P3D
REFRESH-INTERVAL:P3D
CALSCALE:GREGORIAN
BEGIN:VEVENT
DTSTART:20230914T133000Z
DTEND:20230914T143000Z
X-MICROSOFT-CDO-ALLDAYEVENT:FALSE
SUMMARY:NYP Committee Meeting- COVINGTON
DESCRIPTION:Under 40 members providing professional and personal experiences to the young professionals of the Northshore.  Focusing on new and rising members of the business community\, we seek to connect them with people and opportunities to grow and positively impact our community.
X-ALT-DESC;FMTTYPE=text/html:<br />\n<span style="font-size:16px\;">Under 40 members providing professional and personal experiences to the young professionals of the Northshore.&nbsp\; Focusing on new and rising members of the business community\, we seek to connect them with people and opportunities to grow and positively impact our community.</span>
LOCATION:St. Tammany Corporation Office 21489 Coop Dr. Mandeville\, LA 70471 or via Zoom
UID:e.1377.9158
SEQUENCE:3
DTSTAMP:20260421T111138Z
URL:https://business.sttammanychamber.org/events/details/nyp-committee-meeting-covington-9158
END:VEVENT

END:VCALENDAR
