BEGIN:VCALENDAR
VERSION:2.0
PRODID:-//ChamberMaster//Event Calendar 2.0//EN
METHOD:PUBLISH
X-PUBLISHED-TTL:P3D
REFRESH-INTERVAL:P3D
CALSCALE:GREGORIAN
BEGIN:VEVENT
DTSTART:20260312T150000Z
DTEND:20260312T163000Z
X-MICROSOFT-CDO-ALLDAYEVENT:FALSE
SUMMARY:NYP Social @ Stone Creek Club & Spa
DESCRIPTION:Step out of the office and join fellow Northshore Young Professionals for a relaxed networking event! This is your chance to connect with like-minded peers\, meet potential mentors\, and even spark new business opportunities.\n\nThis time\, we're mixing it up our social will be during the day! Light fare and beverages will be provided by Stone Creek while enjoying conversation\, connections and a friendly atmosphere. Whether you're new to the area or a longtime member\, this is the perfect way to expand your network and enjoy a leisurely morning with other professionals
X-ALT-DESC;FMTTYPE=text/html:<div -webkit-text-stroke-width:="" font-size:="" font-style:="" font-variant:="" font-weight:="" letter-spacing:="" line-height:="" margin-bottom:="" margin-left:="" margin-right:="" margin-top:="" orphans:="" style="background-color: transparent\; color: rgb(51\, 51\, 51)\; cursor: text\; font-family: sans-serif\,Arial\,Verdana\," text-align:="" text-decoration:="" text-indent:="" text-transform:="" trebuchet="" white-space:="" word-spacing:="">&nbsp\;\n<p data-end="363" data-start="131"><span style="font-size:16px\;"><span style="font-family:arial\;">Step out of the office and join fellow Northshore Young Professionals for a relaxed networking event! This is your chance to connect with like-minded peers\, meet potential mentors\, and even spark new business opportunities.</span></span></p>\n\n<p data-end="712" data-start="365"><span style="font-size:16px\;"><span style="font-family:arial\;">This time\, we&rsquo\;re mixing it up&mdash\;our social will be during the day! Light fare and beverages will be provided by Stone Creek while enjoying conversation\, connections&nbsp\;and a friendly&nbsp\;atmosphere. Whether you&rsquo\;re new to the area or a longtime member\, this is the perfect way to expand your network and enjoy a leisurely morning with other professionals</span></span></p>\n</div>\n\n<div -webkit-text-stroke-width:="" font-size:="" font-style:="" font-variant:="" font-weight:="" letter-spacing:="" orphans:="" style="background-color: transparent\; color: rgb(51\, 51\, 51)\; font-family: sans-serif\,Arial\,Verdana\," text-align:="" text-decoration:="" text-indent:="" text-transform:="" trebuchet="" white-space:="" word-spacing:=""><br />\n&nbsp\;</div>\n
LOCATION:Stone Creek Club & Spa
UID:e.1377.10863
SEQUENCE:3
DTSTAMP:20260425T191216Z
URL:https://business.sttammanychamber.org/events/details/nyp-social-stone-creek-club-spa-10863
END:VEVENT

END:VCALENDAR
