BEGIN:VCALENDAR
VERSION:2.0
PRODID:-//ChamberMaster//Event Calendar 2.0//EN
METHOD:PUBLISH
X-PUBLISHED-TTL:P3D
REFRESH-INTERVAL:P3D
CALSCALE:GREGORIAN
BEGIN:VEVENT
DTSTART;VALUE=DATE:20260114
DTEND;VALUE=DATE:20260218
TRANSP:TRANSPARENT
X-MICROSOFT-CDO-ALLDAYEVENT:TRUE
SUMMARY:Our Friends Closet King Cake Fundraiser
DESCRIPTION:Our Friends Closet King Cake Fundraiser Is Officially Rolling! \n\nMardi Gras season is here\, and we're celebrating with the sweetest tradition in Louisiana   King Cakes from Sugar Love! \n\n\n\nKING CAKE FUNDRAISER   NEAR & FAR!\n\nWhether you're right here on the Northshore or part of our extended out-of-town krewe\, you can join in and support our mission.\n\n\n\nLOCAL SUPPORTERS   THIS ONE'S FOR YOU!\n\nStop by Sugar Love Slidell and pick up a fresh\, handcrafted King Cake. Just mention Our Friends Closet at checkout and a portion of your purchase helps us continue providing clothing and essentials to students in our community.\n\nPerfect for office parties\, family gatherings\, or simply treating yourself because  it's Carnival season.\n\n\n\nOUT-OF-TOWN FRIENDS   WE'LL SHIP THE SWEETNESS TO YOU! \n\nCraving a taste of Louisiana? No matter where you live\, you can still enjoy a taste of Louisiana by ordering a King Cake online and have it shipped right to your doorstep.\n\n\n\nOrder online: https://sugarloveslidell.com/fundraising/ . \n\n\n\nBe sure to select Our Friends Closet so your purchase supports our fundraiser.\n\n\n\nWhy Your King Cake Matters\n\nEvery cake purchased helps us:\n\n	Stock our closet with clothing and essentials\n	Support students and families in our community\n	Continue growing our impact throughout the year\n\nYou're not just enjoying a King Cake   you're helping us sprinkle kindness across our community.\n\n\n\nLet's spread the sweetness far and wide   Laissez les bon temps rouler! \n\nShare this post\, tag a friend\, and spread the word   whether they're down the street or across the country.\n\n\n\nKing Cake Photo + Tag Request\n\nSnap\, share\, celebrate! When you pick up your king cake\, take a quick photo and show us how you're enjoying it. Post it on Facebook or Instagram and tag us. We love seeing your Mardi Gras spirit and it helps spread the word about our fundraiser.\n\n\n\nThank you for supporting Our Friends Closet!
X-ALT-DESC;FMTTYPE=text/html:<strong>Our Friends Closet King Cake Fundraiser Is Officially Rolling!&nbsp\;</strong><br />\nMardi Gras season is here\, and we&rsquo\;re celebrating with the sweetest tradition in Louisiana &mdash\; King Cakes from Sugar Love!&nbsp\;<br />\n<br />\n<strong>KING CAKE FUNDRAISER &mdash\; NEAR &amp\; FAR!</strong><br />\nWhether you&rsquo\;re right here on the Northshore or part of our extended out-of-town krewe\, you can join in and support our mission.<br />\n<br />\n<strong>LOCAL SUPPORTERS &mdash\; THIS ONE&rsquo\;S FOR YOU!</strong><br />\nStop by&nbsp\;<strong>Sugar Love Slidell</strong>&nbsp\;and pick up a fresh\, handcrafted King Cake. Just mention&nbsp\;<strong>Our Friends Closet</strong>&nbsp\;at checkout and a portion of your purchase helps us continue providing clothing and essentials to students in our community.<br />\nPerfect for office parties\, family gatherings\, or simply treating yourself because&hellip\; it&rsquo\;s Carnival season.<br />\n<br />\n<strong>OUT-OF-TOWN FRIENDS &mdash\;&nbsp\;WE&rsquo\;LL SHIP THE SWEETNESS TO YOU!&nbsp\;</strong><br />\nCraving a taste of Louisiana?&nbsp\;No matter where you live\, you can still enjoy a taste of Louisiana by ordering&nbsp\;a King Cake&nbsp\;<strong>online</strong>&nbsp\;and have it shipped right to your doorstep.<br />\n<br />\nOrder online:&nbsp\;https://sugarloveslidell.com/fundraising/&nbsp\;.&nbsp\;<br />\n<br />\n<strong><em><u>Be sure to select Our Friends Closet so your purchase supports our fundraiser.</u></em></strong><br />\n<br />\n<strong>Why Your King Cake Matters</strong><br />\nEvery cake purchased helps us:\n<ul>\n	<li>Stock our closet with clothing and essentials</li>\n	<li>Support students and families in our community</li>\n	<li>Continue growing our impact throughout the year</li>\n</ul>\nYou&rsquo\;re not just enjoying a King Cake &mdash\; you&rsquo\;re helping us sprinkle kindness across our community.<br />\n<br />\n<strong>Let&rsquo\;s spread the sweetness far and wide &mdash\; Laissez les bon temps rouler!&nbsp\;</strong><br />\nShare this post\, tag a friend\, and spread the word &mdash\; whether they&rsquo\;re down the street or across the country.<br />\n<br />\n<strong>King Cake Photo + Tag Request</strong><br />\n<strong>Snap\, share\, celebrate!</strong> When you pick up your king cake\, take a quick photo and show us how you&rsquo\;re enjoying it. Post it on Facebook or Instagram and <strong>tag us</strong>. We love seeing your Mardi Gras spirit and it helps spread the word about our fundraiser.<br />\n<br />\nThank you for supporting Our Friends Closet!&nbsp\;
LOCATION:ONLINE and in person at the Sugary Love Bakery in Slidell
UID:e.1377.10829
SEQUENCE:3
DTSTAMP:20260425T220309Z
URL:https://business.sttammanychamber.org/events/details/our-friends-closet-king-cake-fundraiser-10829
END:VEVENT

END:VCALENDAR
