BEGIN:VCALENDAR
VERSION:2.0
PRODID:-//ChamberMaster//Event Calendar 2.0//EN
METHOD:PUBLISH
X-PUBLISHED-TTL:P3D
REFRESH-INTERVAL:P3D
CALSCALE:GREGORIAN
BEGIN:VEVENT
DTSTART:20260325T160000Z
DTEND:20260325T180000Z
X-MICROSOFT-CDO-ALLDAYEVENT:FALSE
SUMMARY:Parish Pipeline: St. Tammany
DESCRIPTION:Join SMPS SeLA for an engaging discussion on the economic climate and development opportunities in St. Tammany Parish.  We'll discuss strategies for fostering sustainable growth\, navigating evolving regulatory landscapes\, and highlight how public-private partnerships will drive successful outcomes. Attendees will gain valuable insights into St. Tammany's emerging market trends\, future funding mechanisms\, and the role of community engagement in shaping development. \n\n\n\nSchedule\n\n11:00am - Arrival and networking\n\n11:30am - 1:00pm - Discussion and lunch\n\n\n\nFeatured Speakers\n\nKatie Guasco\, CDME\, MPA\n\nChief Marketing Officer\n\nVisit the Northshore\n\n\n\nLeslie Landry\n\nPresident & CEO\n\nNorthshore Community Foundation\n\n\n\nAshley Llewellyn\n\nVice President\n\nSt. Tammany Economic Development Corporation\n\n\n\nLacey Osborne\, IOM\n\nPresident and CEO\n\nSt. Tammany Parish Chamber of Commerce
X-ALT-DESC;FMTTYPE=text/html:<span style="font-size:14px"><span style="font-family:arial\,helvetica\,sans-serif">Join SMPS SeLA for an engaging discussion on the economic climate and development opportunities in St. Tammany Parish.&nbsp\; We&#39\;ll discuss strategies for fostering sustainable growth\, navigating evolving regulatory landscapes\, and highlight how public-private partnerships will drive successful outcomes. Attendees will gain valuable insights into St. Tammany&#39\;s emerging market trends\, future funding mechanisms\, and the role of community engagement in shaping development.&nbsp\;<br />\n<br />\n<strong>Schedule</strong><br />\n11:00am - Arrival and networking<br />\n11:30am - 1:00pm - Discussion and lunch<br />\n<br />\n<strong>Featured Speakers</strong><br />\n<a href="https://www.linkedin.com/in/katieguasco/" target="_blank"><strong>Katie Guasco\, CDME\, MPA</strong></a><br />\nChief Marketing Officer<br />\n<a href="https://www.visitthenorthshore.com/" target="_blank">Visit the Northshore</a><br />\n<br />\n<strong><a href="https://www.linkedin.com/in/leslie-landry-b5209822/" target="_blank">Leslie Landry</a></strong><br />\nPresident &amp\; CEO<br />\n<a href="https://northshorefoundation.org/" target="_blank">Northshore Community Foundation</a><br />\n<br />\n<strong><a href="https://www.linkedin.com/in/aecllewellyn/" target="_blank">Ashley Llewellyn</a></strong><br />\nVice President<br />\n<a href="https://sttammanyedc.org/" target="_blank">St. Tammany Economic Development Corporation</a><br />\n<br />\n<strong><a href="https://www.linkedin.com/in/lacey-osborne-6280b415a/" target="_blank">Lacey Osborne\, IOM</a></strong><br />\nPresident and CEO<br />\n<a href="https://sttammanychamber.org/" target="_blank">St. Tammany Parish Chamber of Commerce&nbsp\;</a></span></span><br />\n<br />\n&nbsp\;
LOCATION:Feliciana Restaurant 405 E Gibson St. Covington\, LA 70433 http://www.felicianarestaurant.co
UID:e.1377.10864
SEQUENCE:3
DTSTAMP:20260425T203504Z
URL:https://business.sttammanychamber.org/events/details/parish-pipeline-st-tammany-10864
END:VEVENT

END:VCALENDAR
