BEGIN:VCALENDAR
VERSION:2.0
PRODID:-//ChamberMaster//Event Calendar 2.0//EN
METHOD:PUBLISH
X-PUBLISHED-TTL:P3D
REFRESH-INTERVAL:P3D
CALSCALE:GREGORIAN
BEGIN:VEVENT
DTSTART:20260516T230000Z
DTEND:20260517T010000Z
X-MICROSOFT-CDO-ALLDAYEVENT:FALSE
SUMMARY:Pelican Park Live Concert - John Boutté & Friends
DESCRIPTION:Live at Pelican Park... John Boutt  & Friends!\n\nJoin us for a FREE Jazz Concert on May 16th from 6 8pm at the Groves Stage in Pelican Park for an unforgettable evening of live music. New Orleans jazz vocalist John Boutt  brings his signature sound to the stage\, known for his soulful voice and deep roots in the city's music scene.\n\nEnjoy his jazz favorites\, including the iconic "Treme Song" from the HBO series Treme\, along with a mix of classic and contemporary New Orleans-inspired tunes performed alongside a talented group of musicians.\n\nBring your chairs\, gather your friends\, and experience the spirit of New Orleans right here at Pelican Park.
X-ALT-DESC;FMTTYPE=text/html:<p><strong>Live at Pelican Park... John Boutt&eacute\; &amp\; Friends!</strong></p>\n\n<p>Join us for a <strong>FREE Jazz Concert</strong> on <strong>May 16th from 6&ndash\;8pm</strong> at the Groves Stage in Pelican Park for an unforgettable evening of live music. New Orleans jazz vocalist John Boutt&eacute\; brings his signature sound to the stage\, known for his soulful voice and deep roots in the city&rsquo\;s music scene.</p>\n\n<p>Enjoy his jazz favorites\, including the iconic &ldquo\;Treme Song&rdquo\; from the HBO series <em>Treme</em>\, along with a mix of classic and contemporary New Orleans-inspired tunes performed alongside a talented group of musicians.</p>\n\n<p>Bring your chairs\, gather your friends\, and experience the spirit of New Orleans right here at Pelican Park.</p>\n
LOCATION:Location: Pelican Park Skatepark\, 63350 Pelican Dr\, Mandeville\, LA 70448 Enter Pelican Park from Pelican Drive and follow the main road to the first stop sign\, take a left and The Groves Event Stage will be on your left. Parking can be found at: The Green Tri-plex\, White/Blue Parking lot\, Yellow Complex\, Orange and Brown Gym parking lots.
UID:e.1377.10893
SEQUENCE:3
DTSTAMP:20260425T164724Z
URL:https://business.sttammanychamber.org/events/details/pelican-park-live-concert-john-boutt&#233;-friends-10893
END:VEVENT

END:VCALENDAR
