BEGIN:VCALENDAR
VERSION:2.0
PRODID:-//ChamberMaster//Event Calendar 2.0//EN
METHOD:PUBLISH
X-PUBLISHED-TTL:P3D
REFRESH-INTERVAL:P3D
CALSCALE:GREGORIAN
BEGIN:VEVENT
DTSTART;VALUE=DATE:20251121
DTEND;VALUE=DATE:20251124
TRANSP:TRANSPARENT
X-MICROSOFT-CDO-ALLDAYEVENT:TRUE
SUMMARY:Pelican Park Pickleball Turkey Tourney
DESCRIPTION:This is a *New* event!! Join us for the Pickleball Turkey Tourney on November 22 & 23\, 2025. Divisions: Doubles Men's\, Women's\, and Mixed. $40 per player per event. Register at: www.pelicanpark.com
X-ALT-DESC;FMTTYPE=text/html:This is a *New* event!! Join us for the Pickleball Turkey Tourney on November 22 &amp\; 23\, 2025. Divisions: Doubles Men&#39\;s\, Women&#39\;s\, and Mixed. $40 per player per event. Register at: www.pelicanpark.com
LOCATION:Pelican Park 63350 Pelican Drive Mandeville\, LA 70448
UID:e.1377.10707
SEQUENCE:3
DTSTAMP:20260426T001337Z
URL:https://business.sttammanychamber.org/events/details/pelican-park-pickleball-turkey-tourney-10707
END:VEVENT

END:VCALENDAR
