BEGIN:VCALENDAR
VERSION:2.0
PRODID:-//ChamberMaster//Event Calendar 2.0//EN
METHOD:PUBLISH
X-PUBLISHED-TTL:P3D
REFRESH-INTERVAL:P3D
CALSCALE:GREGORIAN
BEGIN:VEVENT
DTSTART:20260502T150000Z
DTEND:20260503T000000Z
X-MICROSOFT-CDO-ALLDAYEVENT:FALSE
SUMMARY:Pelican Park Skatepark Grand Opening
DESCRIPTION:Pelican Park will unveil its new Skatepark with a grand opening celebration on Saturday\, May 2\, 2026\, from 10:00 AM to 7:00 PM in Mandeville. The event will feature live skate demonstrations\, an adaptive skate clinic\, music\, food trucks\, vendors\, and activities for all ages and abilities.\n\nThe schedule includes:\n\n10:00 AM   Free WCMX & Adaptive Skate Clinic/Demo\n\n2:00 PM   Music\, vendors & food trucks open\n\n2:30 PM   Welcome remarks & ribbon cutting\n\n3:00 PM   Professional skate demonstrations\n\n4:30 PM   Community skate jam & mini contests\n\n6:00 PM   Free skate\n\n7:00 PM   Event concludes\n\nAt its core\, the facility is an "all wheels" park designed to break down barriers and welcome users of all ages and abilities. From skateboards to wheelchairs and scooters\, the park supports a wide range of non-electric wheeled recreation. Programming and demonstrations highlight adaptive skateboarding and reinforce a commitment to true community inclusion.
X-ALT-DESC;FMTTYPE=text/html:<div>\n<div>Pelican Park will unveil its new Skatepark with a grand opening celebration on Saturday\, May 2\, 2026\, from 10:00 AM to 7:00 PM in Mandeville. The event will feature live skate demonstrations\, an adaptive skate clinic\, music\, food trucks\, vendors\, and activities for all ages and abilities.<br />\nThe schedule includes:<br />\n10:00 AM &ndash\; Free WCMX &amp\; Adaptive Skate Clinic/Demo<br />\n2:00 PM &ndash\; Music\, vendors &amp\; food trucks open<br />\n2:30 PM &ndash\; Welcome remarks &amp\; ribbon cutting<br />\n3:00 PM &ndash\; Professional skate demonstrations<br />\n4:30 PM &ndash\; Community skate jam &amp\; mini contests<br />\n6:00 PM &ndash\; Free skate<br />\n7:00 PM &ndash\; Event concludes<br />\nAt its core\, the facility is an &ldquo\;all wheels&rdquo\; park designed to break down barriers and welcome users of all ages and abilities. From skateboards to wheelchairs and scooters\, the park supports a wide range of non-electric wheeled recreation. Programming and demonstrations highlight adaptive skateboarding and reinforce a commitment to true community inclusion.</div>\n</div>\n
LOCATION:Location: Pelican Park Skatepark\, 63350 Pelican Dr\, Mandeville\, LA 70448 Enter Pelican Park from Pelican Drive and follow the main road straight to the back of the park...the Skatepark will be located on the right side of the road. Extra parking can be found at Red and Silver Complexes.
UID:e.1377.10892
SEQUENCE:3
DTSTAMP:20260425T164703Z
URL:https://business.sttammanychamber.org/events/details/pelican-park-skatepark-grand-opening-10892
END:VEVENT

END:VCALENDAR
