BEGIN:VCALENDAR
VERSION:2.0
PRODID:-//ChamberMaster//Event Calendar 2.0//EN
METHOD:PUBLISH
X-PUBLISHED-TTL:P3D
REFRESH-INTERVAL:P3D
CALSCALE:GREGORIAN
BEGIN:VEVENT
DTSTART:20251121T180000Z
DTEND:20251121T210000Z
X-MICROSOFT-CDO-ALLDAYEVENT:FALSE
SUMMARY:PJ's Coffee Meet the Roastmaster Felton Jones
DESCRIPTION:Join us for an exclusive opportunity to meet PJ's Coffee Roastmaster\, Felton Jones! With years of expertise and a passion for coffee\, Felton is ready to share insights on everything from sourcing beans to crafting the perfect roast. Don't miss this chance to have one-on-one conversations with a true coffee artisan and discover the secrets behind PJ's exceptional brews. 4520 LA-22 Mandeville\, LA 70471
X-ALT-DESC;FMTTYPE=text/html:&nbsp\;Join us for an exclusive opportunity to meet PJ&rsquo\;s Coffee Roastmaster\, Felton Jones! With years of expertise and a passion for coffee\, Felton is ready to share insights on everything from sourcing beans to crafting the perfect roast. Don&rsquo\;t miss this chance to have one-on-one conversations with a true coffee artisan and discover the secrets behind PJ&rsquo\;s exceptional brews. 4520 LA-22 Mandeville\, LA 70471
LOCATION:PJ's Coffee 4520 LA-22 Mandeville\, LA 70471
UID:e.1377.10752
SEQUENCE:3
DTSTAMP:20260426T001432Z
URL:https://business.sttammanychamber.org/events/details/pj-s-coffee-meet-the-roastmaster-felton-jones-10752
END:VEVENT

END:VCALENDAR
