BEGIN:VCALENDAR
VERSION:2.0
PRODID:-//ChamberMaster//Event Calendar 2.0//EN
METHOD:PUBLISH
X-PUBLISHED-TTL:P3D
REFRESH-INTERVAL:P3D
CALSCALE:GREGORIAN
BEGIN:VEVENT
DTSTART:20030805T130000Z
DTEND:20030805T140000Z
X-MICROSOFT-CDO-ALLDAYEVENT:FALSE
SUMMARY:President's Roundtable-August 2003
DESCRIPTION:
X-ALT-DESC;FMTTYPE=text/html:
LOCATION:Copeland's
UID:e.1377.130
SEQUENCE:3
DTSTAMP:20260422T203926Z
URL:https://business.sttammanychamber.org/events/details/president-s-roundtable-august-2003-08-05-2003-130
END:VEVENT

END:VCALENDAR
