BEGIN:VCALENDAR
VERSION:2.0
PRODID:-//ChamberMaster//Event Calendar 2.0//EN
METHOD:PUBLISH
X-PUBLISHED-TTL:P3D
REFRESH-INTERVAL:P3D
CALSCALE:GREGORIAN
BEGIN:VEVENT
DTSTART:20020108T140000Z
DTEND:20020108T150000Z
X-MICROSOFT-CDO-ALLDAYEVENT:FALSE
SUMMARY:President's Roundtable-January 02
DESCRIPTION:
X-ALT-DESC;FMTTYPE=text/html:
LOCATION:Copeland's
UID:e.1377.52
SEQUENCE:3
DTSTAMP:20260423T235213Z
URL:https://business.sttammanychamber.org/events/details/president-s-roundtable-january-02-01-08-2002-52
END:VEVENT

END:VCALENDAR
