BEGIN:VCALENDAR
VERSION:2.0
PRODID:-//ChamberMaster//Event Calendar 2.0//EN
METHOD:PUBLISH
X-PUBLISHED-TTL:P3D
REFRESH-INTERVAL:P3D
CALSCALE:GREGORIAN
BEGIN:VEVENT
DTSTART:20040714T003000Z
DTEND:20040714T020000Z
X-MICROSOFT-CDO-ALLDAYEVENT:FALSE
SUMMARY:President's Roundtable-July 2004
DESCRIPTION:
X-ALT-DESC;FMTTYPE=text/html:
LOCATION:Holiday Inn
UID:e.1377.168
SEQUENCE:3
DTSTAMP:20260422T052740Z
URL:https://business.sttammanychamber.org/events/details/president-s-roundtable-july-2004-07-13-2004-168
END:VEVENT

END:VCALENDAR
