BEGIN:VCALENDAR
VERSION:2.0
PRODID:-//ChamberMaster//Event Calendar 2.0//EN
METHOD:PUBLISH
X-PUBLISHED-TTL:P3D
REFRESH-INTERVAL:P3D
CALSCALE:GREGORIAN
BEGIN:VEVENT
DTSTART:20030507T130000Z
DTEND:20030507T140000Z
X-MICROSOFT-CDO-ALLDAYEVENT:FALSE
SUMMARY:President's Roundtable-May 03
DESCRIPTION:
X-ALT-DESC;FMTTYPE=text/html:
LOCATION:Copeland's
UID:e.1377.117
SEQUENCE:3
DTSTAMP:20260423T010331Z
URL:https://business.sttammanychamber.org/events/details/president-s-roundtable-may-03-05-07-2003-117
END:VEVENT

END:VCALENDAR
