BEGIN:VCALENDAR
VERSION:2.0
PRODID:-//ChamberMaster//Event Calendar 2.0//EN
METHOD:PUBLISH
X-PUBLISHED-TTL:P3D
REFRESH-INTERVAL:P3D
CALSCALE:GREGORIAN
BEGIN:VEVENT
DTSTART:20011016T130000Z
DTEND:20011016T140000Z
X-MICROSOFT-CDO-ALLDAYEVENT:FALSE
SUMMARY:President's Roundtable-October 01
DESCRIPTION:
X-ALT-DESC;FMTTYPE=text/html:
LOCATION:Copeland's
UID:e.1377.45
SEQUENCE:3
DTSTAMP:20260424T032318Z
URL:https://business.sttammanychamber.org/events/details/president-s-roundtable-october-01-10-16-2001-45
END:VEVENT

END:VCALENDAR
