BEGIN:VCALENDAR
VERSION:2.0
PRODID:-//ChamberMaster//Event Calendar 2.0//EN
METHOD:PUBLISH
X-PUBLISHED-TTL:P3D
REFRESH-INTERVAL:P3D
CALSCALE:GREGORIAN
BEGIN:VEVENT
DTSTART:20230928T163000Z
DTEND:20230928T170000Z
X-MICROSOFT-CDO-ALLDAYEVENT:FALSE
SUMMARY:Ribbon Cutting at Covington Country Club
DESCRIPTION:Please join us\, along with your elected officials and members of the community\,\n\nfor a Ribbon Cutting Ceremony to help celebrate the opening of the reimagined\, state of the art Covington Country Club!
X-ALT-DESC;FMTTYPE=text/html:<div style="text-align: center\;"><span style="font-family: arial\; font-size: 20px\; text-align: center\;">Please join us\, along with your elected officials and&nbsp\;members of the community\,<br />\nfor a Ribbon Cutting Ceremony to help celebrate&nbsp\;the&nbsp\;</span><span style="font-family: arial\; font-size: 20px\; text-align: center\;">opening&nbsp\;of the reimagined\, state of the art&nbsp\;</span><span style="font-family: arial\; font-size: 20px\; text-align: center\;"><strong>Covington Country Club</strong></span><strong><span style="font-family:arial\;"><span style="font-size:20px\;">!</span></span></strong></div>\n
LOCATION:
UID:e.1377.7028
SEQUENCE:3
DTSTAMP:20260421T111327Z
URL:https://business.sttammanychamber.org/events/details/ribbon-cutting-at-covington-country-club-7028
END:VEVENT

END:VCALENDAR
