BEGIN:VCALENDAR
VERSION:2.0
PRODID:-//ChamberMaster//Event Calendar 2.0//EN
METHOD:PUBLISH
X-PUBLISHED-TTL:P3D
REFRESH-INTERVAL:P3D
CALSCALE:GREGORIAN
BEGIN:VEVENT
DTSTART:20251111T173000Z
DTEND:20251111T180000Z
X-MICROSOFT-CDO-ALLDAYEVENT:FALSE
SUMMARY:Ribbon Cutting at Ferguson HVAC
DESCRIPTION:Please join us\, along with your elected officials and members of the community\, for a Ribbon Cutting Ceremony to help celebrate the opening of\n\nFerguson HVAC!
X-ALT-DESC;FMTTYPE=text/html:<div style="text-align: center\;"><span style="font-family: arial\; font-size: 20px\; text-align: center\;">Please join us\, along with your elected officials and&nbsp\;members of the community\, for a Ribbon Cutting Ceremony to help celebrate&nbsp\;the&nbsp\;</span><span style="font-family: arial\; font-size: 20px\; text-align: center\;">opening&nbsp\;of<br />\n<strong>Ferguson HVAC</strong></span><strong><span style="font-family:arial\;"><span style="font-size:20px\;">!</span></span></strong></div>\n
LOCATION:68399 James St #A Mandeville\, LA 70471
UID:e.1377.10731
SEQUENCE:3
DTSTAMP:20260426T012752Z
URL:https://business.sttammanychamber.org/events/details/ribbon-cutting-at-ferguson-hvac-10731
END:VEVENT

END:VCALENDAR
