BEGIN:VCALENDAR
VERSION:2.0
PRODID:-//ChamberMaster//Event Calendar 2.0//EN
METHOD:PUBLISH
X-PUBLISHED-TTL:P3D
REFRESH-INTERVAL:P3D
CALSCALE:GREGORIAN
BEGIN:VEVENT
DTSTART:20260205T173000Z
DTEND:20260205T180000Z
X-MICROSOFT-CDO-ALLDAYEVENT:FALSE
SUMMARY:Ribbon Cutting at Legacy Construction and Development
DESCRIPTION:Please join us\, along with your elected officials and members of the community\, for a Ribbon Cutting Ceremony to help celebrate the opening of\n\nLegacy Construction and Development!
X-ALT-DESC;FMTTYPE=text/html:<div style="text-align: center\;"><span style="font-family: arial\; font-size: 20px\; text-align: center\;">Please join us\, along with your elected officials and&nbsp\;members of the community\, for a Ribbon Cutting Ceremony to help celebrate&nbsp\;the&nbsp\;</span><span style="font-family: arial\; font-size: 20px\; text-align: center\;">opening&nbsp\;of</span></div>\n\n<div style="text-align: center\;"><span style="font-family: arial\; font-size: 20px\; text-align: center\;"><strong>Legacy Construction and Development</strong></span><strong><span style="font-family:arial\;"><span style="font-size:20px\;">!</span></span></strong></div>\n
LOCATION:35297 Home Estate Dr Slidell\, LA 70460
UID:e.1377.10789
SEQUENCE:3
DTSTAMP:20260425T215156Z
URL:https://business.sttammanychamber.org/events/details/ribbon-cutting-at-legacy-construction-and-development-10789
END:VEVENT

END:VCALENDAR
