BEGIN:VCALENDAR
VERSION:2.0
PRODID:-//ChamberMaster//Event Calendar 2.0//EN
METHOD:PUBLISH
X-PUBLISHED-TTL:P3D
REFRESH-INTERVAL:P3D
CALSCALE:GREGORIAN
BEGIN:VEVENT
DTSTART:20260323T150000Z
DTEND:20260323T160000Z
X-MICROSOFT-CDO-ALLDAYEVENT:FALSE
SUMMARY:Ribbon Cutting at Ochsner Eye & Vision Center
DESCRIPTION:Please join us\, along with your elected officials and members of the community\, for a Ribbon Cutting Ceremony to help celebrate the opening of\n\nOchsner Eye & Vision Center!\n\n\n\nIf you are looking for a one-stop optical shop for all of your eye care needs\,\n\nOchsner Eye & Vision Center is the best place for your exam\, lenses\, and eyewear accessories. Our optical shop stocks the glasses and eye care options you want most at a great price. Our on-site labs make prescription eyeglasses in the best new frames\, as well as prescription sunglasses. We carry a full line of eyewear accessories\, as well as most major contact lens brands. Additionally\, our full ophthalmology and optometry practice offers specialized eye care to all ages. Whether you are looking for pediatric services for your child or in need of care for yourself\, Ochsner Eye & Vision Center can help you deal with difficult eye conditions or perform your routine eye exams.
X-ALT-DESC;FMTTYPE=text/html:<div style="text-align: center\;"><span style="font-family: arial\; font-size: 20px\; text-align: center\;">Please join us\, along with your elected officials and&nbsp\;members of the community\, for a Ribbon Cutting Ceremony to help celebrate&nbsp\;the&nbsp\;</span><span style="font-family: arial\; font-size: 20px\; text-align: center\;">opening&nbsp\;of<br />\n<strong>Ochsner Eye &amp\; Vision Center</strong></span><strong><span style="font-family:arial\;"><span style="font-size:20px\;">!</span></span></strong><br />\n<br />\n<span style="font-family:arial\;"><span style="font-size:20px\;"><span style="font-size:16px\;">If you are looking for a one-stop optical shop for all of your eye care needs\,<br />\n<strong>Ochsner Eye &amp\; Vision Center&nbsp\;</strong>is the best place for your exam\, lenses\, and eyewear&nbsp\;accessories. Our optical shop stocks the glasses and eye care options you want most at a great price. Our on-site labs make prescription eyeglasses in the best new frames\, as well as prescription sunglasses. We carry a full line of eyewear accessories\, as well as most major contact lens brands. Additionally\, our full ophthalmology and optometry practice offers specialized eye care to all ages. Whether you are looking for pediatric services for your child or in need of care for yourself\, <strong>Ochsner Eye &amp\; Vision Center </strong>can help you deal with difficult eye conditions or perform your routine eye exams.&nbsp\;</span></span></span></div>\n
LOCATION:1581 N Highway 190 Suite B Covington\, LA 70433
UID:e.1377.10859
SEQUENCE:3
DTSTAMP:20260425T191140Z
URL:https://business.sttammanychamber.org/events/details/ribbon-cutting-at-ochsner-eye-vision-center-10859
END:VEVENT

END:VCALENDAR
