BEGIN:VCALENDAR
VERSION:2.0
PRODID:-//ChamberMaster//Event Calendar 2.0//EN
METHOD:PUBLISH
X-PUBLISHED-TTL:P3D
REFRESH-INTERVAL:P3D
CALSCALE:GREGORIAN
BEGIN:VEVENT
DTSTART:20240113T150000Z
DTEND:20240113T180000Z
X-MICROSOFT-CDO-ALLDAYEVENT:FALSE
SUMMARY:Scouts in Space
DESCRIPTION:Embark on an interstellar adventure at INFINITY Science Center! Join us for the annual Scouts in Space event on January 13\, 2024\, from 9:00 A.M. to 12:00 P.M. Open to scouts of all ages\, immerse yourself in hands-on activities\, robotics demonstrations\, exhibitors\, and more! No pre-registration necessary   just come ready for an out-of-this-world experience!\n\n\n\nFor groups of 20 or more\, secure your spot by making a reservation through the link below!\n\nhttps://form.123formbuilder.com/5570867
X-ALT-DESC;FMTTYPE=text/html:<span style="color:rgb(55\, 65\, 81)\; font-family:söhne\,ui-sans-serif\,system-ui\,-apple-system\,segoe ui\,roboto\,ubuntu\,cantarell\,noto sans\,sans-serif\,helvetica neue\,arial\,apple color emoji\,segoe ui emoji\,segoe ui symbol\,noto color emoji\; font-size:16px">Embark on an interstellar adventure at INFINITY Science Center! Join us for the annual <strong>Scouts in Space</strong> event on <strong>January 13\, 2024\, from 9:00 A.M. to 12:00 P.M.</strong> Open to scouts of all ages\, immerse yourself in hands-on activities\, robotics demonstrations\, exhibitors\, and more! No pre-registration necessary &ndash\; just come ready for an out-of-this-world experience!<br />\n<br />\nFor groups of 20 or more\, secure your spot by making a reservation through the link below!</span><br />\n<span style="color:rgb(55\, 65\, 81)\; font-family:söhne\,ui-sans-serif\,system-ui\,-apple-system\,segoe ui\,roboto\,ubuntu\,cantarell\,noto sans\,sans-serif\,helvetica neue\,arial\,apple color emoji\,segoe ui emoji\,segoe ui symbol\,noto color emoji\; font-size:16px"><a href="https://form.123formbuilder.com/5570867">https://form.123formbuilder.com/5570867</a></span><br />\n<br />\n<br />\n<br />\n&nbsp\;
LOCATION:INFINITY Science Center 1 Discovery Circle\, Pearlington\, MS 39572
UID:e.1377.9367
SEQUENCE:3
DTSTAMP:20260421T094702Z
URL:https://business.sttammanychamber.org/events/details/scouts-in-space-9367
END:VEVENT

END:VCALENDAR
