BEGIN:VCALENDAR
VERSION:2.0
PRODID:-//ChamberMaster//Event Calendar 2.0//EN
METHOD:PUBLISH
X-PUBLISHED-TTL:P3D
REFRESH-INTERVAL:P3D
CALSCALE:GREGORIAN
BEGIN:VEVENT
DTSTART:20240124T150000Z
DTEND:20240124T200000Z
X-MICROSOFT-CDO-ALLDAYEVENT:FALSE
SUMMARY:Slidell\, LA - Breast\, Colorectal & Skin Cancer Screenings
DESCRIPTION:The Prevention on the Go Team at Mary Bird Perkins Cancer Center is hosting free Breast\, Skin & Colorectal Screenings on Wednesday\, January 24th from 9am to 2pm at the Best Buy at Fremaux Center in Slidell. \n\nCall today to schedule an appointment: (985) 287-5775
X-ALT-DESC;FMTTYPE=text/html:<span style="background-color:rgb(250\, 250\, 250)\; color:rgb(66\, 66\, 66)\; font-family:sans-serif\; font-size:12px">The Prevention on the Go Team at Mary Bird Perkins Cancer Center is hosting free Breast\, Skin &amp\; Colorectal Screenings on Wednesday\, January 24th from 9am to 2pm at the Best Buy at Fremaux Center in Slidell.&nbsp\;</span><br />\n<span style="background-color:rgb(250\, 250\, 250)\; color:rgb(66\, 66\, 66)\; font-family:sans-serif\; font-size:12px">Call today to schedule an appointment: (985) 287-5775</span>
LOCATION:Best Buy (Fremaux Center) 200 Towne Center Pkwy Slidell\, LA 70458
UID:e.1377.9366
SEQUENCE:3
DTSTAMP:20260421T100810Z
URL:https://business.sttammanychamber.org/events/details/slidell-la-breast-colorectal-skin-cancer-screenings-01-24-2024-9366
END:VEVENT

END:VCALENDAR
