BEGIN:VCALENDAR
VERSION:2.0
PRODID:-//ChamberMaster//Event Calendar 2.0//EN
METHOD:PUBLISH
X-PUBLISHED-TTL:P3D
REFRESH-INTERVAL:P3D
CALSCALE:GREGORIAN
BEGIN:VEVENT
DTSTART:20260514T210000Z
DTEND:20260514T230000Z
X-MICROSOFT-CDO-ALLDAYEVENT:FALSE
SUMMARY:Solomon Center Open House — May 14\, 2026
DESCRIPTION:You're invited to explore the Solomon Center   a 200-acre retreat and conference center nestled among the longleaf pines of Tangipahoa Parish\, just 30 minutes from Covington and Mandeville.\n\nWhether you're planning a corporate retreat\, leadership summit\, team off-site\, or school program\, this is your opportunity to tour the property\, meet our team\, and discover what the Solomon Center can offer your organization.\n\nWhat you'll find on property:\n\n\n	44 private\, hotel-style rooms   overnight lodging for up to 132 guests\n	Primary conference room seating 132 (stadium) or 72 (tables)\, plus a secondary room\, and 5 breakout spaces\n	Dedicated A/V in primary and secondary conference rooms\n	Chef-prepared buffet dining for 100+ with open-air lakeside patio\n	12-acre stocked lake\, outdoor pool\, basketball\, two campfire areas\, and 92+ acres of trails\n	Updated wireless internet throughout campus\n\n\nLight refreshments will be served. Attendance is free   registration appreciated.\n\nThe Solomon Center is a Ministry of the Episcopal Diocese of Louisiana.
X-ALT-DESC;FMTTYPE=text/html:<p>You&#39\;re invited to explore the Solomon Center &mdash\; a 200-acre retreat and conference center nestled among the longleaf pines of Tangipahoa Parish\, just 30 minutes from Covington and Mandeville.</p>\n\n<p>Whether you&#39\;re planning a corporate retreat\, leadership summit\, team off-site\, or school program\, this is your opportunity to tour the property\, meet our team\, and discover what the Solomon Center can offer your organization.</p>\n\n<p><strong>What you&#39\;ll find on property:</strong></p>\n\n<ul>\n	<li>44 private\, hotel-style rooms &mdash\; overnight lodging for up to 132 guests</li>\n	<li>Primary conference room seating 132 (stadium) or 72 (tables)\, plus a secondary room\, and 5 breakout spaces</li>\n	<li>Dedicated A/V in primary and secondary conference rooms</li>\n	<li>Chef-prepared buffet dining for 100+ with open-air lakeside patio</li>\n	<li>12-acre stocked lake\, outdoor pool\, basketball\, two campfire areas\, and 92+ acres of trails</li>\n	<li>Updated wireless internet throughout campus</li>\n</ul>\n\n<p>Light refreshments will be served. Attendance is free &mdash\; registration appreciated.</p>\n\n<p>The Solomon Center is a Ministry of the Episcopal Diocese of Louisiana.</p>\n
LOCATION:Solomon Center 54296 HWY 445 Loranger\, LA 70446
UID:e.1377.10889
SEQUENCE:3
DTSTAMP:20260421T121325Z
URL:https://business.sttammanychamber.org/events/details/solomon-center-open-house-may-14-2026-10889
END:VEVENT

END:VCALENDAR
