BEGIN:VCALENDAR
VERSION:2.0
PRODID:-//ChamberMaster//Event Calendar 2.0//EN
METHOD:PUBLISH
X-PUBLISHED-TTL:P3D
REFRESH-INTERVAL:P3D
CALSCALE:GREGORIAN
BEGIN:VEVENT
DTSTART:20030514T230000Z
DTEND:20030515T010000Z
X-MICROSOFT-CDO-ALLDAYEVENT:FALSE
SUMMARY:Southern Nights - 2003
DESCRIPTION:
X-ALT-DESC;FMTTYPE=text/html:
LOCATION:Governor's Mansion
UID:e.1377.115
SEQUENCE:3
DTSTAMP:20260423T011140Z
URL:https://business.sttammanychamber.org/events/details/southern-nights-2003-05-14-2003-115
END:VEVENT

END:VCALENDAR
