BEGIN:VCALENDAR
VERSION:2.0
PRODID:-//ChamberMaster//Event Calendar 2.0//EN
METHOD:PUBLISH
X-PUBLISHED-TTL:P3D
REFRESH-INTERVAL:P3D
CALSCALE:GREGORIAN
BEGIN:VEVENT
DTSTART:20260319T153000Z
DTEND:20260319T220000Z
X-MICROSOFT-CDO-ALLDAYEVENT:FALSE
SUMMARY:Swinging for Scholarships Golf Tournament 2026
DESCRIPTION:The St. Tammany Chamber of Commerce is committed to the growth of business and keeping local talent in the community. That is why we started the Swinging for Scholarships Golf Tournament and proceeds from this tournament are used to provide three (3) $1\,000 scholarships to local students who plan to attend a Louisiana college\, university or community college. Join us for a great day on the links while helping to provide scholarships to deserving St. Tammany students. \n\n\n\nThe tournament will be a 4 person scramble. \n\n\n\n Click here to download the scholarship application. Applications are due February 28th.\n\n\n\nThere are a couple of opportunities to sponsor the tournament available. Please contact Eva Snapp (985) 273-3008 for more information.
X-ALT-DESC;FMTTYPE=text/html:<br />\nThe St. Tammany Chamber of Commerce is committed to the growth of business and keeping local talent in the community. That is why we started the Swinging for Scholarships Golf Tournament and proceeds from this tournament are used to provide three (3) $1\,000 scholarships to local students who plan to attend a Louisiana college\, university or community college. Join us for a great day on the links while helping to provide scholarships to deserving St. Tammany students.&nbsp\;<br />\n<br />\nThe tournament will be a 4 person scramble.&nbsp\;<br />\n<br />\n&nbsp\;<span style="color:#221F1F\;"><span style="font-family:tahoma\,sans-serif\;"><span style="font-size:10.5pt\;"><a href="https://files.constantcontact.com/b8dd7d33701/3c7e00c0-9b68-490d-ae88-000f0d0dbe09.pdf" target="_blank"><span style="color:#BF3F2F\;">Click here</span></a></span></span></span>&nbsp\;to download the scholarship application. Applications are due February 28th.<br />\n<br />\nThere are a couple of opportunities to sponsor the tournament available. Please contact Eva Snapp<tcxspan tcxhref="9852733008" title="Call  (985) 273-3008  via 3CX"> (985) 273-3008 </tcxspan>for more information.
LOCATION:Money Hill Country Club
UID:e.1377.10823
SEQUENCE:3
DTSTAMP:20260425T191139Z
URL:https://business.sttammanychamber.org/events/details/swinging-for-scholarships-golf-tournament-2026-10823
END:VEVENT

END:VCALENDAR
