BEGIN:VCALENDAR
VERSION:2.0
PRODID:-//ChamberMaster//Event Calendar 2.0//EN
METHOD:PUBLISH
X-PUBLISHED-TTL:P3D
REFRESH-INTERVAL:P3D
CALSCALE:GREGORIAN
BEGIN:VEVENT
DTSTART:20251121T143000Z
DTEND:20251121T180000Z
X-MICROSOFT-CDO-ALLDAYEVENT:FALSE
SUMMARY:Update on Labor Law & Employment - Northshore
DESCRIPTION:Breazeale\, Sachse & Wilson\, L.L.P. presents Management Update and Briefing\, a half-day labor and employment law seminar.\n\n\n\nSpeakers:\n\nE. Fredrick Preis\, Jr.\n\nRachael Jeanfreau\n\nPhilip Giorlando
X-ALT-DESC;FMTTYPE=text/html:<br />\n<br />\n<br />\nBreazeale\, Sachse &amp\; Wilson\, L.L.P. presents Management Update and Briefing\, a half-day labor and employment law seminar.<br />\n<br />\nSpeakers:<br />\nE. Fredrick Preis\, Jr.<br />\nRachael Jeanfreau<br />\nPhilip Giorlando
LOCATION:Courtyard New Orleans Covington/Mandeville
UID:e.1377.10758
SEQUENCE:3
DTSTAMP:20260426T012352Z
URL:https://business.sttammanychamber.org/events/details/update-on-labor-law-employment-northshore-10758
END:VEVENT

END:VCALENDAR
